BEGIN:VCALENDAR
VERSION:2.0
PRODID:EVENTFROG//EVENT//ICAL
BEGIN:VEVENT
UID:20260424T105344Z-7452613751629438622@eventfrog.at
DTSTAMP:20260424T105344Z
DTSTART:20260502T083000Z
DTEND:20260502T090000Z
SUMMARY:SaMo-Gschichtli in Rothrist
DESCRIPTION:Für Kinder von 3 - 6 Jahren in Begleitung eines Erwachsenen erzählt Annalena Zinniker die Geschichte "Lieselotte macht Urlaub". Ein neues lustiges Abenteuer mit der ganz besonderen Kuh Lieselotte. \n\nhttps://eventfrog.at/de/p/kinderveranstaltungen/familienveranstaltungen/samo-gschichtli-in-rothrist-7452613751629438622.html
LOCATION:Schul- und Gemeindebibliothek
GEO:47.305268;7.889396
URL:https://eventfrog.at/de/p/kinderveranstaltungen/familienveranstaltungen/samo-gschichtli-in-rothrist-7452613751629438622.html
END:VEVENT
END:VCALENDAR