BEGIN:VCALENDAR
VERSION:2.0
PRODID:EVENTFROG//EVENT//ICAL
BEGIN:VEVENT
UID:20260423T032744Z-7452610024512197962@eventfrog.at
DTSTAMP:20260423T032744Z
DTSTART:20260523T090000Z
DTEND:20260523T110000Z
SUMMARY:Art Brunch - Strukturkunst "Lemon"
DESCRIPTION:Gestalte mit individueller Begleitung in entspannter Atmosphäre dein eigenes Kunstwerk, entweder\n frei nach deinen Vorstellungen oder mit uns zusammen ein wundervolles Zitronenbild!\n\nhttps://eventfrog.at/de/p/kurse-seminare/freizeit-hobby/art-brunch-strukturkunst-lemon-7452610024512197962.html
LOCATION:Aurora Events
GEO:51.354392;12.374693
URL:https://eventfrog.at/de/p/kurse-seminare/freizeit-hobby/art-brunch-strukturkunst-lemon-7452610024512197962.html
END:VEVENT
END:VCALENDAR