BEGIN:VCALENDAR
VERSION:2.0
PRODID:EVENTFROG//EVENT//ICAL
BEGIN:VEVENT
UID:20260424T063612Z-7452454297231439739@eventfrog.at
DTSTAMP:20260424T063612Z
DTSTART:20260513T200000Z
SUMMARY:90s & 00s Plus Special! w/ C-Baker
DESCRIPTION:90s & 2000s Plus mit DJ C-Baker im Club.\n\nhttps://eventfrog.at/de/p/partys/charts-open-format/90s-00s-plus-special-w-c-baker-7452454297231439739.html
LOCATION:Bar59
GEO:47.041981;8.311045
URL:https://eventfrog.at/de/p/partys/charts-open-format/90s-00s-plus-special-w-c-baker-7452454297231439739.html
END:VEVENT
END:VCALENDAR