BEGIN:VCALENDAR
VERSION:2.0
PRODID:EVENTFROG//EVENT//ICAL
BEGIN:VEVENT
UID:20260424T064107Z-7452452165606474752@eventfrog.at
DTSTAMP:20260424T064107Z
DTSTART:20260509T200000Z
SUMMARY:B59 80s 90s Party w/ Swiss Juan Paulo
DESCRIPTION:80er & 90er Hits mit DJ Swiss Juan Paulo im Club.\n\nhttps://eventfrog.at/de/p/partys/charts-open-format/b59-80s-90s-party-w-swiss-juan-paulo-7452452165606474752.html
LOCATION:Bar59
GEO:47.041981;8.311045
URL:https://eventfrog.at/de/p/partys/charts-open-format/b59-80s-90s-party-w-swiss-juan-paulo-7452452165606474752.html
END:VEVENT
END:VCALENDAR