BEGIN:VCALENDAR
VERSION:2.0
PRODID:EVENTFROG//EVENT//ICAL
BEGIN:VEVENT
UID:20260424T090345Z-7452450270158564337@eventfrog.at
DTSTAMP:20260424T090345Z
DTSTART:20260613T210000Z
DTEND:20260614T020000Z
SUMMARY:GROOVE ON X ME•PATE
DESCRIPTION:Me•Pate und Groove On spielen am 13. Juni im Bellevue Zürich ab 23 Uhr Afro House und Ibiza-Style Techhouse in einer gemeinsamen Nacht.\n\nhttps://eventfrog.at/en/p/parties/house-techno/groove-on-x-mepate-7452450270158564337.html
LOCATION:Club Bellevue
GEO:47.367504;8.546003
URL:https://eventfrog.at/en/p/parties/house-techno/groove-on-x-mepate-7452450270158564337.html
END:VEVENT
END:VCALENDAR