BEGIN:VCALENDAR
VERSION:2.0
PRODID:EVENTFROG//EVENT//ICAL
BEGIN:VEVENT
UID:20260423T160146Z-7452448687421188838@eventfrog.at
DTSTAMP:20260423T160146Z
DTSTART:20260508T180000Z
SUMMARY:50 Years of Hip-Hop w/ TreBeats
DESCRIPTION:Hip-Hop & Classics mit DJ TreBeats in der Bar.\n\nhttps://eventfrog.at/de/p/partys/hip-hop-rap/50-years-of-hip-hop-w-trebeats-7452448687421188838.html
LOCATION:Bar59
GEO:47.041981;8.311045
URL:https://eventfrog.at/de/p/partys/hip-hop-rap/50-years-of-hip-hop-w-trebeats-7452448687421188838.html
END:VEVENT
END:VCALENDAR