BEGIN:VCALENDAR
VERSION:2.0
PRODID:EVENTFROG//EVENT//ICAL
BEGIN:VEVENT
UID:20260423T154744Z-7452440988834867175@eventfrog.at
DTSTAMP:20260423T154744Z
DTSTART:20260501T190000Z
SUMMARY:Baraoke 59 Friday Special
DESCRIPTION:come and sing with us or just chill with friends, but have fun!\n\nhttps://eventfrog.at/de/p/partys/karaoke/baraoke-59-friday-special-7452440988834867175.html
LOCATION:Bar59
GEO:47.041981;8.311045
URL:https://eventfrog.at/de/p/partys/karaoke/baraoke-59-friday-special-7452440988834867175.html
END:VEVENT
END:VCALENDAR