BEGIN:VCALENDAR
VERSION:2.0
PRODID:EVENTFROG//EVENT//ICAL
BEGIN:VEVENT
UID:20260424T072732Z-7452439464297666042@eventfrog.at
DTSTAMP:20260424T072732Z
DTSTART:20260503T050000Z
DTEND:20260503T073000Z
SUMMARY:Exkursion "Vögel in Parks und Gärten"
DESCRIPTION:Der Natur- und Vogelschutzverein Baden / Ennetbaden führt eine Exkursion zur Beobachtung und Bestimmung von Vögeln durch.\n\nhttps://eventfrog.at/de/p/fuehrungen-vortraege/fuehrung/exkursion-voegel-in-parks-und-gaerten-7452439464297666042.html
LOCATION:Bahnhofplatz Baden, beim Limmatpromenade-Lift
GEO:47.468500;8.297220
URL:https://eventfrog.at/de/p/fuehrungen-vortraege/fuehrung/exkursion-voegel-in-parks-und-gaerten-7452439464297666042.html
END:VEVENT
END:VCALENDAR