BEGIN:VCALENDAR
VERSION:2.0
PRODID:EVENTFROG//EVENT//ICAL
BEGIN:VEVENT
UID:20260422T024233Z-7452407846111594491@eventfrog.at
DTSTAMP:20260422T024233Z
DTSTART:20260423T180000Z
DTEND:20260423T200000Z
SUMMARY:Fairis & Friends Comedy Showcase
DESCRIPTION:Fairis & Friends presents a diverse stand-up night in Basel with a rotating cast of comedians; donations are welcome.\n\nhttps://eventfrog.at/en/p/theatre-stage/comedy-cabaret/fairis-friends-comedy-showcase-7452407846111594491.html
LOCATION:HEIMAT - Bar, Club, Stage, Kitchen
GEO:47.569005;7.601645
URL:https://eventfrog.at/en/p/theatre-stage/comedy-cabaret/fairis-friends-comedy-showcase-7452407846111594491.html
END:VEVENT
END:VCALENDAR