BEGIN:VCALENDAR
VERSION:2.0
PRODID:EVENTFROG//EVENT//ICAL
BEGIN:VEVENT
UID:20260424T065106Z-7452396147274946623@eventfrog.at
DTSTAMP:20260424T065106Z
DTSTART:20260517T150000Z
DTEND:20260517T160000Z
SUMMARY:Orgelkonzert: Bach und die symphonische Orgel
DESCRIPTION:Serena Di Nuzzo spielt auf der prächtigen Konzertorgel der Pfarrkirche Unterägeri Werke von Johann Sebastian Bach, Louis Vierne und César Franck\n\nhttps://eventfrog.at/de/p/konzerte/kirchenmusik/orgelkonzert-bach-und-die-symphonische-orgel-7452396147274946623.html
LOCATION:Pfarrkirche Unterägeri
GEO:47.138127;8.582818
URL:https://eventfrog.at/de/p/konzerte/kirchenmusik/orgelkonzert-bach-und-die-symphonische-orgel-7452396147274946623.html
END:VEVENT
END:VCALENDAR