BEGIN:VCALENDAR
VERSION:2.0
PRODID:EVENTFROG//EVENT//ICAL
BEGIN:VEVENT
UID:20260424T092517Z-7452390158668673259@eventfrog.at
DTSTAMP:20260424T092517Z
DTSTART:20260521T160000Z
DTEND:20260521T183000Z
SUMMARY:Lesung & Workshop: Der Bauchkompass
DESCRIPTION:Saskia Winkler vermittelt in Lesung und Workshop, wie das Bauchgefühl klarere, sicherere Entscheidungen ermöglicht.\n\nhttps://eventfrog.at/de/p/kurse-seminare/coaching/lesung-workshop-der-bauchkompass-7452390158668673259.html
LOCATION:Co Working Space St. Johann
GEO:47.664280;9.175690
URL:https://eventfrog.at/de/p/kurse-seminare/coaching/lesung-workshop-der-bauchkompass-7452390158668673259.html
END:VEVENT
END:VCALENDAR