BEGIN:VCALENDAR
VERSION:2.0
PRODID:EVENTFROG//EVENT//ICAL
BEGIN:VEVENT
UID:20260424T072728Z-7452387488222451383@eventfrog.at
DTSTAMP:20260424T072728Z
DTSTART:20260604T173000Z
DTEND:20260604T193000Z
SUMMARY:«A 13» – Buchlesung mit Linard Bardill
DESCRIPTION:Lesungen entlang der Autobahn A13: Linard Bardill liest aus seinem neuen Buch «A 13 – Geschichten zum Eilen und Verweilen». Mit musikalischer Begleitung.\n\nhttps://eventfrog.at/de/p/diverses/a-13-buchlesung-mit-linard-bardill-7452387488222451383.html
LOCATION:Bei Berta unter dem Nussbaum
GEO:47.384807;9.666242
URL:https://eventfrog.at/de/p/diverses/a-13-buchlesung-mit-linard-bardill-7452387488222451383.html
END:VEVENT
END:VCALENDAR