BEGIN:VCALENDAR
VERSION:2.0
PRODID:EVENTFROG//EVENT//ICAL
BEGIN:VEVENT
UID:20260424T090459Z-7452386940584727828@eventfrog.at
DTSTAMP:20260424T090459Z
DTSTART:20260606T133000Z
DTEND:20260606T160000Z
SUMMARY:«A 13» – Buchlesung mit Linard Bardill
DESCRIPTION:Lesungen entlang der Autobahn A13: Linard Bardill liest aus seinem neuen Buch «A 13 – Geschichten zum Eilen und Verweilen». Mit musikalischer Begleitung.\n\nhttps://eventfrog.at/de/p/diverses/a-13-buchlesung-mit-linard-bardill-7452386940584727828.html
LOCATION:Raststätte Sevelen
GEO:47.146063;9.501110
URL:https://eventfrog.at/de/p/diverses/a-13-buchlesung-mit-linard-bardill-7452386940584727828.html
END:VEVENT
END:VCALENDAR