BEGIN:VCALENDAR
VERSION:2.0
PRODID:EVENTFROG//EVENT//ICAL
BEGIN:VEVENT
UID:20260421T221005Z-7452382650700971105@eventfrog.at
DTSTAMP:20260421T221005Z
DTSTART:20260423T160000Z
SUMMARY:SIMONE AUGHTERLONY Hand Job
DESCRIPTION:HAND JOB setzt rotierende Apparaturen, blaues Porzellan, Text und Körper in ein fragiles Zusammenspiel aus Greifen, Drehen, Abrutschen und Wiederholen. \n\nhttps://eventfrog.at/de/p/theater-buehne/buehnenveranstaltung/simone-aughterlony-hand-job-7452382650700971105.html
LOCATION:Kampnagel, Internationale Kulturfabrik
GEO:53.583863;10.020338
URL:https://eventfrog.at/de/p/theater-buehne/buehnenveranstaltung/simone-aughterlony-hand-job-7452382650700971105.html
END:VEVENT
END:VCALENDAR