BEGIN:VCALENDAR
VERSION:2.0
PRODID:EVENTFROG//EVENT//ICAL
BEGIN:VEVENT
UID:20260422T075257Z-7452380393414628016@eventfrog.at
DTSTAMP:20260422T075257Z
DTSTART:20260530T163000Z
DTEND:20260530T183000Z
SUMMARY:Build Your Tapas Plate - Pottery Workshop
DESCRIPTION:Workshop in Zürich: Anfänger erstellen keramische Tapas-Teller, Preis 105 CHF, inklusive Materialien und Apéro.\n\nhttps://eventfrog.at/en/p/courses-seminars/art-culture/build-your-tapas-plate-pottery-workshop-7452380393414628016.html
LOCATION:CeramicsOnWheels Studio
GEO:47.404456;8.548438
URL:https://eventfrog.at/en/p/courses-seminars/art-culture/build-your-tapas-plate-pottery-workshop-7452380393414628016.html
END:VEVENT
END:VCALENDAR