BEGIN:VCALENDAR
VERSION:2.0
PRODID:EVENTFROG//EVENT//ICAL
BEGIN:VEVENT
UID:20260424T072733Z-7452379230900352830@eventfrog.at
DTSTAMP:20260424T072733Z
DTSTART:20260531T120000Z
DTEND:20260531T140000Z
SUMMARY:Build Your Kitchen Tools - Pottery Workshop
DESCRIPTION:Im Kitchen Clay Lab in Zürich gestalten Teilnehmende praktische Küchenhelfer aus Ton, Anleitung und Material inklusive.\n\nhttps://eventfrog.at/en/p/courses-seminars/art-culture/build-your-kitchen-tools-pottery-workshop-7452379230900352830.html
LOCATION:CeramicsOnWheels Studio
GEO:47.404456;8.548438
URL:https://eventfrog.at/en/p/courses-seminars/art-culture/build-your-kitchen-tools-pottery-workshop-7452379230900352830.html
END:VEVENT
END:VCALENDAR