BEGIN:VCALENDAR
VERSION:2.0
PRODID:EVENTFROG//EVENT//ICAL
BEGIN:VEVENT
UID:20260422T075333Z-7452376803375618517@eventfrog.at
DTSTAMP:20260422T075333Z
DTSTART:20260514T163000Z
DTEND:20260514T183000Z
SUMMARY:Build Your Tapas Plate - Pottery Workshop
DESCRIPTION:Workshop in Zürich: Anfänger erstellen keramische Tapas-Teller, Preis 105 CHF, inklusive Materialien und Apéro.\n\nhttps://eventfrog.at/en/p/courses-seminars/art-culture/build-your-tapas-plate-pottery-workshop-7452376803375618517.html
LOCATION:CeramicsOnWheels Studio
GEO:47.404456;8.548438
URL:https://eventfrog.at/en/p/courses-seminars/art-culture/build-your-tapas-plate-pottery-workshop-7452376803375618517.html
END:VEVENT
END:VCALENDAR