BEGIN:VCALENDAR
VERSION:2.0
PRODID:EVENTFROG//EVENT//ICAL
BEGIN:VEVENT
UID:20260423T154839Z-7452344953034798383@eventfrog.at
DTSTAMP:20260423T154839Z
DTSTART:20260501T190000Z
SUMMARY:Jodlerwirt Karaoke Night
DESCRIPTION:Am 1. Mai ab 21 Uhr finden im Jodlerwirt mehrere Karaoke-Sessions statt, Anmeldung per E-Mail oder bis 21 Uhr beim DJ.\n\nhttps://eventfrog.at/de/p/partys/schlager-volksmusik/jodlerwirt-karaoke-night-7452344953034798383.html
LOCATION:Jodlerwirt - die Schlagerbeiz
GEO:47.050288;8.302047
URL:https://eventfrog.at/de/p/partys/schlager-volksmusik/jodlerwirt-karaoke-night-7452344953034798383.html
END:VEVENT
END:VCALENDAR