BEGIN:VCALENDAR
VERSION:2.0
PRODID:EVENTFROG//EVENT//ICAL
BEGIN:VEVENT
UID:20260424T072731Z-7452342689918390551@eventfrog.at
DTSTAMP:20260424T072731Z
DTSTART:20260530T080000Z
DTEND:20260530T120000Z
SUMMARY:BIKU Sprachreisen-Messe
DESCRIPTION:Entdecke die Welt der Sprachen! Triff internationale Sprachschulen, sichere dir Rabatte und gewinne tolle Preise – an der BIKU Sprachreisen-Messe in Aarau.\n\nhttps://eventfrog.at/de/p/messen/messe/biku-sprachreisen-messe-7452342689918390551.html
LOCATION:Igelweid / Stadtbibliothek Aarau
GEO:47.392401;8.046103
URL:https://eventfrog.at/de/p/messen/messe/biku-sprachreisen-messe-7452342689918390551.html
END:VEVENT
END:VCALENDAR