BEGIN:VCALENDAR
VERSION:2.0
PRODID:EVENTFROG//EVENT//ICAL
BEGIN:VEVENT
UID:20260424T092417Z-7452340515314368206@eventfrog.at
DTSTAMP:20260424T092417Z
DTSTART:20260919T073000Z
DTEND:20260919T093000Z
SUMMARY:Erlebnisrundgang bei Limeco
DESCRIPTION:Entdecken Sie im Limeco Energiezentrum die Prozesse der Abwasserreinigung, Abfallverwertung und Energiegewinnung in einer beeindruckenden Führung. Mindestalter: 12 Jahre. Ort: Dietikon.\n\nhttps://eventfrog.at/de/p/fuehrungen-vortraege/fuehrung/erlebnisrundgang-bei-limeco-7452340515314368206.html
LOCATION:Abwasserreinigungsanlage (ARA) Limeco
GEO:47.414005;8.404614
URL:https://eventfrog.at/de/p/fuehrungen-vortraege/fuehrung/erlebnisrundgang-bei-limeco-7452340515314368206.html
END:VEVENT
END:VCALENDAR