BEGIN:VCALENDAR
VERSION:2.0
PRODID:EVENTFROG//EVENT//ICAL
BEGIN:VEVENT
UID:20260421T170320Z-7452338153535336505@eventfrog.at
DTSTAMP:20260421T170320Z
DTSTART:20260424T170000Z
DTEND:20260424T215900Z
SUMMARY:N17 EVENT LOUNGE : TRANCE CLASSICS mit 3 DJs
DESCRIPTION:Phil i.p. und Gäste spielen ab 19 Uhr Trance-Hymnen der 90er/2000er in der N17 EVENT LOUNGE, Eintritt 10 Franken.\n\nhttps://eventfrog.at/de/p/partys/trance-ambient/n17-event-lounge-trance-classics-mit-3-djs-7452338153535336505.html
LOCATION:N 17 EVENT LOUNGE Griesheim
GEO:49.868708;8.552770
URL:https://eventfrog.at/de/p/partys/trance-ambient/n17-event-lounge-trance-classics-mit-3-djs-7452338153535336505.html
END:VEVENT
END:VCALENDAR