BEGIN:VCALENDAR
VERSION:2.0
PRODID:EVENTFROG//EVENT//ICAL
BEGIN:VEVENT
UID:20260424T084231Z-7452333745992911739@eventfrog.at
DTSTAMP:20260424T084231Z
DTSTART:20261018T140000Z
SUMMARY:Zaubersocken - Neue Trixx, frisch serviert!
DESCRIPTION:Frech, bunt und voller Magie – die Zaubersocken sind zurück!\n\nhttps://eventfrog.at/de/p/kinderveranstaltungen/familienveranstaltungen/zaubersocken-neue-trixx-frisch-serviert-7452333745992911739.html
LOCATION:Theater Fauteuil
GEO:47.557349;7.586407
URL:https://eventfrog.at/de/p/kinderveranstaltungen/familienveranstaltungen/zaubersocken-neue-trixx-frisch-serviert-7452333745992911739.html
END:VEVENT
END:VCALENDAR