BEGIN:VCALENDAR
VERSION:2.0
PRODID:EVENTFROG//EVENT//ICAL
BEGIN:VEVENT
UID:20260424T072729Z-7452333297890232888@eventfrog.at
DTSTAMP:20260424T072729Z
DTSTART:20260502T190000Z
DTEND:20260503T030000Z
SUMMARY:Depeche Mode & Friends Part III
DESCRIPTION:Depeche Mode & Friends : A party for the masses ! in seiner dritten Auflage\n\nhttps://eventfrog.at/de/p/partys/gothic-wave/depeche-mode-friends-part-iii-7452333297890232888.html
LOCATION:Plan.Bonn
GEO:50.739683;7.101716
URL:https://eventfrog.at/de/p/partys/gothic-wave/depeche-mode-friends-part-iii-7452333297890232888.html
END:VEVENT
END:VCALENDAR