BEGIN:VCALENDAR
VERSION:2.0
PRODID:EVENTFROG//EVENT//ICAL
BEGIN:VEVENT
UID:20260424T080053Z-7452333007338262722@eventfrog.at
DTSTAMP:20260424T080053Z
DTSTART:20260718T130000Z
DTEND:20260718T143000Z
SUMMARY:Stadtspaziergang Andernach
DESCRIPTION:Gästeführung durch das historische Andernach\n\nhttps://eventfrog.at/de/p/fuehrungen-vortraege/stadtfuehrung/stadtspaziergang-andernach-7452333007338262722.html
LOCATION:Tourist-Information Andernach
GEO:50.439492;7.400656
URL:https://eventfrog.at/de/p/fuehrungen-vortraege/stadtfuehrung/stadtspaziergang-andernach-7452333007338262722.html
END:VEVENT
END:VCALENDAR