BEGIN:VCALENDAR
VERSION:2.0
PRODID:EVENTFROG//EVENT//ICAL
BEGIN:VEVENT
UID:20260421T190219Z-7452331657334382914@eventfrog.at
DTSTAMP:20260421T190219Z
DTSTART:20260503T090000Z
DTEND:20260503T140000Z
SUMMARY:Modellbahn und Spielzeugmarkt
DESCRIPTION:Für einen schönen Sonntag!!\n\nhttps://eventfrog.at/de/p/maerkte/sonstige-maerkte/modellbahn-und-spielzeugmarkt-7452331657334382914.html
LOCATION:Schützenhalle Hemden
GEO:51.879157;6.594804
URL:https://eventfrog.at/de/p/maerkte/sonstige-maerkte/modellbahn-und-spielzeugmarkt-7452331657334382914.html
END:VEVENT
END:VCALENDAR