BEGIN:VCALENDAR
VERSION:2.0
PRODID:EVENTFROG//EVENT//ICAL
BEGIN:VEVENT
UID:20260424T203011Z-7452327515903807619@eventfrog.at
DTSTAMP:20260424T203011Z
DTSTART:20260702T170000Z
DTEND:20260702T180000Z
SUMMARY:Sommertheater: Romeo und Julia
DESCRIPTION:Ein Solo-Stück, in dem die berühmte Liebesgeschichte in ihrer Tragik, aber auch zuweilen Komik verhandelt wird.\n\nhttps://eventfrog.at/de/p/theater-buehne/theater/sommertheater-romeo-und-julia-7452327515903807619.html
LOCATION:überdachter Hof der Feinkost
GEO:51.326446;12.372892
URL:https://eventfrog.at/de/p/theater-buehne/theater/sommertheater-romeo-und-julia-7452327515903807619.html
END:VEVENT
END:VCALENDAR