BEGIN:VCALENDAR
VERSION:2.0
PRODID:EVENTFROG//EVENT//ICAL
BEGIN:VEVENT
UID:20260424T215624Z-7452324991209590143@eventfrog.at
DTSTAMP:20260424T215624Z
DTSTART:20260704T170000Z
DTEND:20260704T193000Z
SUMMARY:Klangkunst durch Fingerspitzengefühl
DESCRIPTION:Das Zitherorchester Ostbayern spielt unter Thomas Baldauf in St. Theresia Regensburg ein Konzert mit Klassik, Jazz und Musical.\n\nhttps://eventfrog.at/de/p/konzerte/weitere-musikrichtungen/klangkunst-durch-fingerspitzengefuehl-7452324991209590143.html
LOCATION:Theresia - Raum für Ideen
GEO:49.008586;12.087894
URL:https://eventfrog.at/de/p/konzerte/weitere-musikrichtungen/klangkunst-durch-fingerspitzengefuehl-7452324991209590143.html
END:VEVENT
END:VCALENDAR