BEGIN:VCALENDAR
VERSION:2.0
PRODID:EVENTFROG//EVENT//ICAL
BEGIN:VEVENT
UID:20260424T072640Z-7452323720566175184@eventfrog.at
DTSTAMP:20260424T072640Z
DTSTART:20260515T160000Z
DTEND:20260515T210000Z
SUMMARY:80er ab 40gi
DESCRIPTION:80er-Party für Über-40-Jährige mit Pea Weber und DJ Ray Douglas am 15. Mai 18-23h im Club Bellevue, Zürich.\n\nhttps://eventfrog.at/en/p/parties/80-s/80er-ab-40gi-7452323720566175184.html
LOCATION:Club Bellevue
GEO:47.367504;8.546003
URL:https://eventfrog.at/en/p/parties/80-s/80er-ab-40gi-7452323720566175184.html
END:VEVENT
END:VCALENDAR