BEGIN:VCALENDAR
VERSION:2.0
PRODID:EVENTFROG//EVENT//ICAL
BEGIN:VEVENT
UID:20260422T204831Z-7452319543760839246@eventfrog.at
DTSTAMP:20260422T204831Z
DTSTART:20260510T080000Z
DTEND:20260510T150000Z
SUMMARY:Flower Power
DESCRIPTION:Feiert den Frühling beim Flower Power 2026 am 10. Mai, passend zum Muttertag, in den Gärten der Welt in Berlin!\n\nhttps://eventfrog.at/de/p/freizeit-ausfluege/sonstige-veranstaltungen/flower-power-7452319543760839246.html
LOCATION:Gärten Der Welt
GEO:52.539593;13.579014
URL:https://eventfrog.at/de/p/freizeit-ausfluege/sonstige-veranstaltungen/flower-power-7452319543760839246.html
END:VEVENT
END:VCALENDAR