BEGIN:VCALENDAR
VERSION:2.0
PRODID:EVENTFROG//EVENT//ICAL
BEGIN:VEVENT
UID:20260422T032357Z-7452316669748203434@eventfrog.at
DTSTAMP:20260422T032357Z
DTSTART:20260719T093000Z
DTEND:20260719T103000Z
SUMMARY:FORUM WÜRTH ARLESHEIM X CHEZ WÜRTH
DESCRIPTION:Führung durch die Ausstellung, mit anschliessendem Kaffee und Kuchen im Chez Würth.\n\nhttps://eventfrog.at/de/p/fuehrungen-vortraege/fuehrung/forum-wuerth-arlesheim-x-chez-wuerth-7452316669748203434.html
LOCATION:Forum Würth Arlesheim
GEO:47.497009;7.607158
URL:https://eventfrog.at/de/p/fuehrungen-vortraege/fuehrung/forum-wuerth-arlesheim-x-chez-wuerth-7452316669748203434.html
END:VEVENT
END:VCALENDAR