BEGIN:VCALENDAR
VERSION:2.0
PRODID:EVENTFROG//EVENT//ICAL
BEGIN:VEVENT
UID:20260422T043002Z-7452309192004623933@eventfrog.at
DTSTAMP:20260422T043002Z
DTSTART:20260530T120000Z
DTEND:20260530T200000Z
SUMMARY:DAYDANCE (ART OF NIGHT)
DESCRIPTION:Am 30. Mai öffnet das Art of Night zur ersten DayDance-Party mit DJs, Outdoor-Garten und feiner Sommerenergie ab 14 Uhr.\n\nhttps://eventfrog.at/de/p/partys/disco/daydance-art-of-night-7452309192004623933.html
LOCATION:Nachtschicht Hard
GEO:47.473769;9.672456
URL:https://eventfrog.at/de/p/partys/disco/daydance-art-of-night-7452309192004623933.html
END:VEVENT
END:VCALENDAR