BEGIN:VCALENDAR
VERSION:2.0
PRODID:EVENTFROG//EVENT//ICAL
BEGIN:VEVENT
UID:20260424T192430Z-7452300401079017732@eventfrog.at
DTSTAMP:20260424T192430Z
DTSTART:20260523T090000Z
DTEND:20260523T100000Z
SUMMARY:Öffentliche Museumsführung
DESCRIPTION:Bereichern Sie Ihren Museumsbesuch mit einer faszinierenden Führung und entdecken Sie spannende Hintergründe.\n\n\n\nhttps://eventfrog.at/de/p/freizeit-ausfluege/ausflug/oeffentliche-museumsfuehrung-7452300401079017732.html
LOCATION:Museum Der Kleine Prinz und seine Welt
GEO:47.206886;7.538773
URL:https://eventfrog.at/de/p/freizeit-ausfluege/ausflug/oeffentliche-museumsfuehrung-7452300401079017732.html
END:VEVENT
END:VCALENDAR