BEGIN:VCALENDAR
VERSION:2.0
PRODID:EVENTFROG//EVENT//ICAL
BEGIN:VEVENT
UID:20260424T100022Z-7452290791152556115@eventfrog.at
DTSTAMP:20260424T100022Z
DTSTART:20260726T180000Z
DTEND:20260726T190000Z
SUMMARY:SOMMERBÜHNE: ROMAN GAMES
DESCRIPTION:The Roman Games aus Rorschach begeistern mit energiegeladenem New Wave, Pop und Folk, eigenen Songs und Covers.\n\nhttps://eventfrog.at/de/p/konzerte/pop-rock/sommerbuehne-roman-games-7452290791152556115.html
LOCATION:Schloss Wartegg
GEO:47.478425;9.530131
URL:https://eventfrog.at/de/p/konzerte/pop-rock/sommerbuehne-roman-games-7452290791152556115.html
END:VEVENT
END:VCALENDAR