BEGIN:VCALENDAR
VERSION:2.0
PRODID:EVENTFROG//EVENT//ICAL
BEGIN:VEVENT
UID:20260424T162820Z-7452290270014532063@eventfrog.at
DTSTAMP:20260424T162820Z
DTSTART:20260502T080000Z
DTEND:20260502T120000Z
SUMMARY:Berufsinfotag: insightday 2026
DESCRIPTION:Du entscheidest selbst, welche Lehrbetriebe und Ausbildungsberufe du besuchen möchtest. Es gibt kein fixes Programm, keine Anmeldung und du kannst den Zeitraum deines Besuchs frei wählen.\n\nhttps://eventfrog.at/de/p/fuehrungen-vortraege/wahlveranstaltungen/berufsinfotag-insightday-2026-7452290270014532063.html
LOCATION:Untere Brühlstrasse, 4800 Zofingen
GEO:47.292890;7.933770
URL:https://eventfrog.at/de/p/fuehrungen-vortraege/wahlveranstaltungen/berufsinfotag-insightday-2026-7452290270014532063.html
END:VEVENT
END:VCALENDAR