BEGIN:VCALENDAR
VERSION:2.0
PRODID:EVENTFROG//EVENT//ICAL
BEGIN:VEVENT
UID:20260422T024233Z-7452288462886016264@eventfrog.at
DTSTAMP:20260422T024233Z
DTSTART:20260430T193000Z
DTEND:20260430T230000Z
SUMMARY:Tanz in den Mai
DESCRIPTION:Tanz in den Mai: Starte mit uns in den Frühling! Freu dich auf Hits der 70er, 80er, 90er, aktuelle Sounds & Latin Beats von DJ Thiemo. Tanzen, feiern und gute Laune von 21:30 bis 01:00 Uhr!\n\nhttps://eventfrog.at/de/p/partys/sonstige-partys/tanz-in-den-mai-7452288462886016264.html
LOCATION:LUX
GEO:48.738478;9.309354
URL:https://eventfrog.at/de/p/partys/sonstige-partys/tanz-in-den-mai-7452288462886016264.html
END:VEVENT
END:VCALENDAR