BEGIN:VCALENDAR
VERSION:2.0
PRODID:EVENTFROG//EVENT//ICAL
BEGIN:VEVENT
UID:20260424T090234Z-7452287586041618955@eventfrog.at
DTSTAMP:20260424T090234Z
DTSTART:20260617T170000Z
DTEND:20260617T190000Z
SUMMARY:Paar-Apéro in Männedorf  «Wieder Verbindung spüren»
DESCRIPTION:Anregende Impulse zur Paar-Kommunikation\n\nhttps://eventfrog.at/de/p/diverses/paar-apero-in-maennedorf-wieder-verbindung-spueren-7452287586041618955.html
LOCATION:Untervogthaus
GEO:47.253218;8.690422
URL:https://eventfrog.at/de/p/diverses/paar-apero-in-maennedorf-wieder-verbindung-spueren-7452287586041618955.html
END:VEVENT
END:VCALENDAR