BEGIN:VCALENDAR
VERSION:2.0
PRODID:EVENTFROG//EVENT//ICAL
BEGIN:VEVENT
UID:20260421T140038Z-7452286626561035956@eventfrog.at
DTSTAMP:20260421T140038Z
DTSTART:20260422T170000Z
DTEND:20260422T190000Z
SUMMARY:TaKeTiNa Abendgruppe - Start
DESCRIPTION:Die TaKeTiNa Abendgruppe bietet eine körperliche Rhythmuserfahrung, die Präsenz fördert und ohne Vorkenntnisse Musikalität öffnet.\n\nhttps://eventfrog.at/de/p/diverses/taketina-abendgruppe-start-7452286626561035956.html
LOCATION:Rhythmus Tempel
GEO:50.910222;6.970555
URL:https://eventfrog.at/de/p/diverses/taketina-abendgruppe-start-7452286626561035956.html
END:VEVENT
END:VCALENDAR