BEGIN:VCALENDAR
VERSION:2.0
PRODID:EVENTFROG//EVENT//ICAL
BEGIN:VEVENT
UID:20260424T082505Z-7452286617690081137@eventfrog.at
DTSTAMP:20260424T082505Z
DTSTART:20261030T170000Z
DTEND:20261030T233000Z
SUMMARY:10. Gourmet Oktoberfest im GALFRI-Chalet
DESCRIPTION:Erlebe ein einzigartiges Oktoberfest mit exquisiten Kreationen, bester Livemusik und herzlicher Gastfreundschaft\n\n\nhttps://eventfrog.at/de/p/essen-trinken/10-gourmet-oktoberfest-im-galfri-chalet-7452286617690081137.html
LOCATION:Galfri GmbH
GEO:47.201389;8.203683
URL:https://eventfrog.at/de/p/essen-trinken/10-gourmet-oktoberfest-im-galfri-chalet-7452286617690081137.html
END:VEVENT
END:VCALENDAR