BEGIN:VCALENDAR
VERSION:2.0
PRODID:EVENTFROG//EVENT//ICAL
BEGIN:VEVENT
UID:20260424T071540Z-7452280228682952576@eventfrog.at
DTSTAMP:20260424T071540Z
DTSTART:20260621T090000Z
DTEND:20260621T160000Z
SUMMARY:Sommerfest – Gare du Nord & Friends
DESCRIPTION:Wir feiern den Sommer, die Sonne und den Abschluss der Spielzeit und laden herzlich zum Sommerfest im Gare du Nord ein!\n\nhttps://eventfrog.at/de/p/diverses/sommerfest-gare-du-nord-friends-7452280228682952576.html
LOCATION:Gare du Nord – Bahnhof für Neue Musik
GEO:47.567389;7.607131
URL:https://eventfrog.at/de/p/diverses/sommerfest-gare-du-nord-friends-7452280228682952576.html
END:VEVENT
END:VCALENDAR