BEGIN:VCALENDAR
VERSION:2.0
PRODID:EVENTFROG//EVENT//ICAL
BEGIN:VEVENT
UID:20260424T162803Z-7452276755962826751@eventfrog.at
DTSTAMP:20260424T162803Z
DTSTART:20260424T123000Z
DTEND:20260424T143000Z
SUMMARY:Vernissage - Bilderausstellung unserer BewohnerInnen
DESCRIPTION:Vernissage - Bilderausstellung, gemalt von  unseren BewohnerInnen\n\nhttps://eventfrog.at/de/p/kunst-ausstellungen/vernissage/vernissage-bilderausstellung-unserer-bewohnerinnen-7452276755962826751.html
LOCATION:Alterszentrum Churfirsten
GEO:47.227681;9.199447
URL:https://eventfrog.at/de/p/kunst-ausstellungen/vernissage/vernissage-bilderausstellung-unserer-bewohnerinnen-7452276755962826751.html
END:VEVENT
END:VCALENDAR