BEGIN:VCALENDAR
VERSION:2.0
PRODID:EVENTFROG//EVENT//ICAL
BEGIN:VEVENT
UID:20260424T072732Z-7452272938999357544@eventfrog.at
DTSTAMP:20260424T072732Z
DTSTART:20260603T180000Z
DTEND:20260603T190000Z
SUMMARY:ATTACCA – « I   I   I    I  I » – Camilo Bornstein
DESCRIPTION:Das Konzert präsentiert Stücke, die das Innere mit dem Äußeren verbinden: Musik, die in ihrer Introspektion nach außen zeigt – auf das Vergehen der Zeit, auf Erinnerung und politische Wirklichkeit. \n\nhttps://eventfrog.at/de/p/konzerte/weitere-musikrichtungen/attacca-i-i-i-i-i-camilo-bornstein-7452272938999357544.html
LOCATION:Gare du Nord – Bahnhof für Neue Musik
GEO:47.567389;7.607131
URL:https://eventfrog.at/de/p/konzerte/weitere-musikrichtungen/attacca-i-i-i-i-i-camilo-bornstein-7452272938999357544.html
END:VEVENT
END:VCALENDAR