BEGIN:VCALENDAR
VERSION:2.0
PRODID:EVENTFROG//EVENT//ICAL
BEGIN:VEVENT
UID:20260424T105411Z-7452270554948585791@eventfrog.at
DTSTAMP:20260424T105411Z
DTSTART:20260522T180000Z
DTEND:20260522T191000Z
SUMMARY:SOMMERBÜHNE: MANUEL STAHLBERGER. «ES GEHT»
DESCRIPTION:Manuel Stahlberger präsentiert Texte, Bilder und Inszenierung, begleitet von Marcel Gschwend am Musikmischpult.\n\nhttps://eventfrog.at/de/p/theater-buehne/theater/sommerbuehne-manuel-stahlberger-es-geht-7452270554948585791.html
LOCATION:Schloss Wartegg
GEO:47.478425;9.530131
URL:https://eventfrog.at/de/p/theater-buehne/theater/sommerbuehne-manuel-stahlberger-es-geht-7452270554948585791.html
END:VEVENT
END:VCALENDAR