BEGIN:VCALENDAR
VERSION:2.0
PRODID:EVENTFROG//EVENT//ICAL
BEGIN:VEVENT
UID:20260421T121034Z-7452270243542468536@eventfrog.at
DTSTAMP:20260421T121034Z
DTSTART:20260513T200000Z
DTEND:20260514T020000Z
SUMMARY:SZECSEI – PERG  JEDERZEIT CLUB
DESCRIPTION:SZECSEI DJ bulija Pergben a Jederzeit Clubban limitált 150 fővel, hajnalig tánc és brutál hangulat vár.\n\nhttps://eventfrog.at/de/p/partys/disco/szecsei-perg-jederzeit-club-7452270243542468536.html
LOCATION:Jederzeit Club Lounge
GEO:48.249117;14.641757
URL:https://eventfrog.at/de/p/partys/disco/szecsei-perg-jederzeit-club-7452270243542468536.html
END:VEVENT
END:VCALENDAR