BEGIN:VCALENDAR
VERSION:2.0
PRODID:EVENTFROG//EVENT//ICAL
BEGIN:VEVENT
UID:20260421T145954Z-7452269407630284516@eventfrog.at
DTSTAMP:20260421T145954Z
DTSTART:20260528T133000Z
DTEND:20260528T143000Z
SUMMARY:Para- Judo Workshop
DESCRIPTION:Lennart Sass erklärt Para Judo und bietet am 28. Mai 2026 an der SightCity ein Mitmach-Angebot zum Ausprobieren.\n\nhttps://eventfrog.at/de/p/kurse-seminare/sport-fitness/para-judo-workshop-7452269407630284516.html
LOCATION:Kap Europa, Frankfurt am Main, DE, auf der der Sport & Musik Bühne
GEO:50.109966;8.653981
URL:https://eventfrog.at/de/p/kurse-seminare/sport-fitness/para-judo-workshop-7452269407630284516.html
END:VEVENT
END:VCALENDAR