BEGIN:VCALENDAR
VERSION:2.0
PRODID:EVENTFROG//EVENT//ICAL
BEGIN:VEVENT
UID:20260422T154128Z-7452262885307251689@eventfrog.at
DTSTAMP:20260422T154128Z
DTSTART:20260521T120000Z
DTEND:20260521T160000Z
SUMMARY:Franziska Zumbach - Kerala Sari & Co.
DESCRIPTION:Franziska Zumbach zeigt ihre neuen Arbeiten.\n\nhttps://eventfrog.at/de/p/kunst-ausstellungen/ausstellung/franziska-zumbach-kerala-sari-co-7452262885307251689.html
LOCATION:Galerie Carla Renggli
GEO:47.165660;8.514703
URL:https://eventfrog.at/de/p/kunst-ausstellungen/ausstellung/franziska-zumbach-kerala-sari-co-7452262885307251689.html
END:VEVENT
END:VCALENDAR