BEGIN:VCALENDAR
VERSION:2.0
PRODID:EVENTFROG//EVENT//ICAL
BEGIN:VEVENT
UID:20260424T091028Z-7452262058819594443@eventfrog.at
DTSTAMP:20260424T091028Z
DTSTART:20260617T180000Z
DTEND:20260617T203500Z
SUMMARY:The ones we love: "The Blues Brothers"
DESCRIPTION:Ihr habt es so gewollt ️! Aus der THE ONES WE LOVE CLASSIC-Filmreihe zeigen wir THE BLUES BROTHERS von John Landis aus dem Jahr 1980. \n\nhttps://eventfrog.at/de/p/freizeit-ausfluege/film-kino/the-ones-we-love-the-blues-brothers-7452262058819594443.html
LOCATION:Cinewil
GEO:47.463280;9.041600
URL:https://eventfrog.at/de/p/freizeit-ausfluege/film-kino/the-ones-we-love-the-blues-brothers-7452262058819594443.html
END:VEVENT
END:VCALENDAR