BEGIN:VCALENDAR
VERSION:2.0
PRODID:EVENTFROG//EVENT//ICAL
BEGIN:VEVENT
UID:20260425T163905Z-7452259370476288831@eventfrog.at
DTSTAMP:20260425T163905Z
DTSTART:20260605T170000Z
DTEND:20260605T190000Z
SUMMARY:Andreas Köhler lädt ein und liest: Sciasciou
DESCRIPTION:Einladung zur Lesung - Getränk wird spendiert.\n\nhttps://eventfrog.at/de/p/theater-buehne/lesung/andreas-koehler-laedt-ein-und-liest-sciasciou-7452259370476288831.html
LOCATION:DenkBar
GEO:47.423897;9.376600
URL:https://eventfrog.at/de/p/theater-buehne/lesung/andreas-koehler-laedt-ein-und-liest-sciasciou-7452259370476288831.html
END:VEVENT
END:VCALENDAR