BEGIN:VCALENDAR
VERSION:2.0
PRODID:EVENTFROG//EVENT//ICAL
BEGIN:VEVENT
UID:20260424T072728Z-7452258938983050507@eventfrog.at
DTSTAMP:20260424T072728Z
DTSTART:20260809T093000Z
DTEND:20260809T103000Z
SUMMARY:Sonntagsführung
DESCRIPTION:Sonntagsführung durch die Ausstellung «HAP Grieshaber – Einschnitt  Ausdruck. Sammlung Würth»\n\nhttps://eventfrog.at/en/p/art-exhibitions/other-art-events/sonntagsfuehrung-7452258938983050507.html
LOCATION:Forum Würth Arlesheim
GEO:47.497009;7.607158
URL:https://eventfrog.at/en/p/art-exhibitions/other-art-events/sonntagsfuehrung-7452258938983050507.html
END:VEVENT
END:VCALENDAR