BEGIN:VCALENDAR
VERSION:2.0
PRODID:EVENTFROG//EVENT//ICAL
BEGIN:VEVENT
UID:20260422T204740Z-7452257338696718725@eventfrog.at
DTSTAMP:20260422T204740Z
DTSTART:20261010T070000Z
DTEND:20261012T150000Z
SUMMARY:Kinderyoga - 25h-Yoga-Weiterbildung
DESCRIPTION:Vom 10.10.-12.10.2026 bietet die 25-stündige Fortbildung praxisorientiertes Kinderyoga für Fachpersonen und Yogalehrende.\n\nhttps://eventfrog.at/de/p/sport-fitness/yoga/kinderyoga-25h-yoga-weiterbildung-7452257338696718725.html
LOCATION:Yoga Labor Berlin
GEO:52.462984;13.509339
URL:https://eventfrog.at/de/p/sport-fitness/yoga/kinderyoga-25h-yoga-weiterbildung-7452257338696718725.html
END:VEVENT
END:VCALENDAR