BEGIN:VCALENDAR
VERSION:2.0
PRODID:EVENTFROG//EVENT//ICAL
BEGIN:VEVENT
UID:20260424T095951Z-7452254897901185285@eventfrog.at
DTSTAMP:20260424T095951Z
DTSTART:20261017T180000Z
DTEND:20261017T193000Z
SUMMARY:Hanna & Harald
DESCRIPTION:Scheuring fragt – Schmidt redet: Das ungeprobte Tischgespräch\n\n\nhttps://eventfrog.at/de/p/theater-buehne/comedy-kabarett/hanna-harald-7452254897901185285.html
LOCATION:Würth Haus Rorschach
GEO:47.478437;9.506574
URL:https://eventfrog.at/de/p/theater-buehne/comedy-kabarett/hanna-harald-7452254897901185285.html
END:VEVENT
END:VCALENDAR